BEGIN:VCALENDAR
VERSION:2.0
PRODID:-//JFSO - ECPv6.2.4//NONSGML v1.0//EN
CALSCALE:GREGORIAN
METHOD:PUBLISH
X-ORIGINAL-URL:https://jfso.ch
X-WR-CALDESC:Veranstaltungen für JFSO
REFRESH-INTERVAL;VALUE=DURATION:PT1H
X-Robots-Tag:noindex
X-PUBLISHED-TTL:PT1H
BEGIN:VTIMEZONE
TZID:Europe/Zurich
BEGIN:DAYLIGHT
TZOFFSETFROM:+0100
TZOFFSETTO:+0200
TZNAME:CEST
DTSTART:20230326T010000
END:DAYLIGHT
BEGIN:STANDARD
TZOFFSETFROM:+0200
TZOFFSETTO:+0100
TZNAME:CET
DTSTART:20231029T010000
END:STANDARD
END:VTIMEZONE
BEGIN:VEVENT
DTSTART;TZID=Europe/Zurich:20231208T180000
DTEND;TZID=Europe/Zurich:20231208T200000
DTSTAMP:20231024T102156
CREATED:20230930T135923Z
LAST-MODIFIED:20230930T140318Z
UID:15343-1702058400-1702065600@jfso.ch
SUMMARY:Weihnachtsessen
DESCRIPTION:Komm an das Weihnachtsessen der Jungfreisinnige Kanton Solothurn und geniesse mit uns die festlichen Wintertage. Eingeladen sind alle Mitglieder\, sowie Freunde und Familie.✨ Herzlichst\, euer Vorstand
URL:https://jfso.ch/event/weihnachtsessen/
END:VEVENT
END:VCALENDAR