BEGIN:VCALENDAR
VERSION:2.0
PRODID:-//JFSO - ECPv6.2.4//NONSGML v1.0//EN
CALSCALE:GREGORIAN
METHOD:PUBLISH
X-WR-CALNAME:JFSO
X-ORIGINAL-URL:https://jfso.ch
X-WR-CALDESC:Veranstaltungen für JFSO
REFRESH-INTERVAL;VALUE=DURATION:PT1H
X-Robots-Tag:noindex
X-PUBLISHED-TTL:PT1H
BEGIN:VTIMEZONE
TZID:Europe/Zurich
BEGIN:DAYLIGHT
TZOFFSETFROM:+0100
TZOFFSETTO:+0200
TZNAME:CEST
DTSTART:20230326T010000
END:DAYLIGHT
BEGIN:STANDARD
TZOFFSETFROM:+0200
TZOFFSETTO:+0100
TZNAME:CET
DTSTART:20231029T010000
END:STANDARD
END:VTIMEZONE
BEGIN:VEVENT
DTSTART;TZID=Europe/Zurich:20230929T000000
DTEND;TZID=Europe/Zurich:20230929T235959
DTSTAMP:20231024T101630
CREATED:20230704T092345Z
LAST-MODIFIED:20230817T082553Z
UID:15088-1695945600-1696031999@jfso.ch
SUMMARY:Jungfreisinnige an der HESO
DESCRIPTION:Die Jungfreisinnige übernehmen am 29. September den HESO-Stand der FDP.Die Liberalen. Komm auf ein wohlwollendes Getränk an unseren vorbei und erzähle uns von deinen politischen Anliegen. Wir freuen uns auf dich! #JFSO
URL:https://jfso.ch/event/jungfreisinnige-an-der-heso/
LOCATION:HESO Solothurn
END:VEVENT
BEGIN:VEVENT
DTSTART;TZID=Europe/Zurich:20230923T160000
DTEND;TZID=Europe/Zurich:20230923T200000
DTSTAMP:20231024T101630
CREATED:20230901T202933Z
LAST-MODIFIED:20230921T070401Z
UID:15321-1695484800-1695499200@jfso.ch
SUMMARY:Parolenfassung und Unternehmungsbesichtigung
DESCRIPTION:Am 23. Oktober 2023 sind nicht nur die eidgenössischen Parlamentswahlen\, sondern auch eine kantonale Abstimmung. Die Parolenfassung und Besichtigung finden in der Vereinigte Pignons Fabriken AG in Grenchen statt und wir dürfen hochkarätige Gäste begrüssen. Komm auch du vorbei\, um die Jungfreisinnigen kennenzulernen.
URL:https://jfso.ch/event/parolenfassung-und-unternehmungsbesichtigung/
END:VEVENT
BEGIN:VEVENT
DTSTART;TZID=Europe/Zurich:20230902T090000
DTEND;TZID=Europe/Zurich:20230902T150000
DTSTAMP:20231024T101630
CREATED:20230614T151247Z
LAST-MODIFIED:20230817T081948Z
UID:15041-1693645200-1693666800@jfso.ch
SUMMARY:Tag der FDP
DESCRIPTION:Wir freuen uns\, Sie zum Tag der FDP einzuladen\, der eineinhalb Monate vor den eidgenössischen Wahlen stattfindet. Aus organisatorischen Gründen bitten wir Sie\, sich bis am 27. August 2023 über den QR-Code anzumelden. \n\n15.00 Uhr: Ende des Events
URL:https://jfso.ch/event/tag-der-fdp/
LOCATION:BCF Arena\, Ch. Saint-Léonard 5\, 1700 Freiburg\, Schweiz
ATTACH;FMTTYPE=image/png:https://jungfreisinnige.ch/redesign-jfso/wp-content/uploads/sites/81/2023/06/Bildschirmfoto-2023-06-14-um-17.10.56.png
END:VEVENT
BEGIN:VEVENT
DTSTART;TZID=Europe/Zurich:20230825T170000
DTEND;TZID=Europe/Zurich:20230825T180000
DTSTAMP:20231024T101630
CREATED:20230813T195748Z
LAST-MODIFIED:20230813T200301Z
UID:15223-1692982800-1692986400@jfso.ch
SUMMARY:Glace für mehr Freiheit
DESCRIPTION:Kommt vorbei und geniesst eine Glace von den Jungfreisinnige Kanton Solothurn! Wir verteilen am 25. August in der Stadt Solothurn leckere Glace\, um euch für die Wahlen einzustimmen und über die weiterhin schmelzende AHV zu sprechen. Lasst uns gemeinsam für eine offene und inklusive Gesellschaft eintreten! Wir freuen uns auf euch! \n\n\n\n \n\n\n\nWo? Stadt Solothurn
URL:https://jfso.ch/event/glace-fuer-mehr-freiheit/
LOCATION:Solothurn
END:VEVENT
BEGIN:VEVENT
DTSTART;TZID=Europe/Zurich:20230812T180000
DTEND;TZID=Europe/Zurich:20230812T235900
DTSTAMP:20231024T101630
CREATED:20210602T154153Z
LAST-MODIFIED:20230810T135858Z
UID:14103-1691863200-1691884740@jfso.ch
SUMMARY:Gemeinsamer Grillplausch
DESCRIPTION:Du bist zu unserem Event zum ersten gemeinsamen Grillieren eingeladen. Zusammen mit deinen Freunden kannst du einen ersten Eindruck von uns gewinnen und wir können Anliegen unserer Generation besser in der politischen Welt umsetzen\, ganz nach dem Motto «von Jung\, für Jung».  Wenn du dich politisch noch gar nicht auskennst\, bist du trotzdem herzlichst willkommen\, um mit uns einen schönen Abend zu haben. :) \nMelde dich über den QR-Code oder den unten aufgeführten Link für unseren Grillplausch an. Wir freuen uns auf dich und deine Freunde! \nHier Anmelden
URL:https://jfso.ch/event/grillplausch/
END:VEVENT
BEGIN:VEVENT
DTSTART;TZID=Europe/Zurich:20230808T190000
DTEND;TZID=Europe/Zurich:20230808T230000
DTSTAMP:20231024T101630
CREATED:20230704T091849Z
LAST-MODIFIED:20230803T202910Z
UID:15086-1691521200-1691535600@jfso.ch
SUMMARY:Kantonale DV FDP Kanton Solothurn
DESCRIPTION:
URL:https://jfso.ch/event/kantonale-dv-fdp-kanton-solothurn/
END:VEVENT
BEGIN:VEVENT
DTSTART;TZID=Europe/Zurich:20230629T193000
DTEND;TZID=Europe/Zurich:20230629T220000
DTSTAMP:20231024T101630
CREATED:20230530T154017Z
LAST-MODIFIED:20230615T153042Z
UID:14821-1688067000-1688076000@jfso.ch
SUMMARY:Event Renteninitiative
DESCRIPTION:Unsere Kantonalpräsidentin\, Melanie Racine\, darf neben dem Direktor der Solothurner Handelskammer\, Daniel Probst\, beim ersten regionale Event zu der Renteninitiative referieren. Auf der Gegenseite steht Heinz Flück von den Grünen und Lars Ritter von der JUSO. \nZeigen wir den linken\, weshalb freisinnige Lösungspolitik am Ende für alle den grössten Ertrag aus einer bald zukunftslosen AHV bietet und geben zusammen ein Zeichen an die Bevölkerung\, dass wir unsere sterbende AHV nicht vergessen haben. \nWann und Wo? \n29. Juni um 19.30 Uhr im Restaurant Krone in Solothurn
URL:https://jfso.ch/event/event-renteninitiative/
ATTACH;FMTTYPE=image/jpeg:https://jungfreisinnige.ch/redesign-jfso/wp-content/uploads/sites/81/2023/05/f0063f27-3e16-4ab1-92f5-0981860f7394.jpg
END:VEVENT
BEGIN:VEVENT
DTSTART;TZID=Europe/Zurich:20230617T170000
DTEND;TZID=Europe/Zurich:20230617T193000
DTSTAMP:20231024T101630
CREATED:20230530T142218Z
LAST-MODIFIED:20230612T102550Z
UID:14798-1687021200-1687030200@jfso.ch
SUMMARY:Pride-Parade in Zürich
DESCRIPTION:Die Jungfreisinnige Kanton Solothurn sind an der diesjährigen Pride in Zürich dabei. Laufe zusammen mit uns für eine freiere Gesellschaft.
URL:https://jfso.ch/event/grillfest-jfso/
END:VEVENT
BEGIN:VEVENT
DTSTART;TZID=Europe/Zurich:20230616T110000
DTEND;TZID=Europe/Zurich:20230616T140000
DTSTAMP:20231024T101630
CREATED:20230530T153330Z
LAST-MODIFIED:20230613T212943Z
UID:14817-1686913200-1686924000@jfso.ch
SUMMARY:RIP AHV
DESCRIPTION:Die Jungfreisinnige Schweiz treffen sich vor dem Bundeshaus in Bern um den Bundesrat sowie das Parlament auf unsere sterbende AHV aufmerksam zu machen und der Bevölkerung zu zeigen\, dass wir es ernst nehmen. Die Ablehnung unserer Initiative ohne Gegenvorschlag nehmen wir nicht ohne politische Gegenreaktion auf. Nimm Teil an unserem Trauermarsch. \nWann? 10.45 Uhr Waisenhausplatz Bern \nKontaktiere uns unter info@jfso.ch
URL:https://jfso.ch/event/rip-ahv/
END:VEVENT
END:VCALENDAR